BEGIN:VCALENDAR
VERSION:2.0
PRODID:SchoolNow
CALSCALE:GREGORIAN
BEGIN:VEVENT
UID:9e69278e-d0f3-11ea-a395-0a83a6936883
DTSTAMP:20200811T174856Z
SUMMARY:Child Find
URL;VALUE=URI:https://www.ronank12.edu/calendar/2294703/child-find
DTSTART:20200918T143000Z
DTEND:20200918T210000Z
END:VEVENT
END:VCALENDAR
