BEGIN:VCALENDAR
VERSION:2.0
PRODID:SchoolNow
CALSCALE:GREGORIAN
BEGIN:VEVENT
UID:d21cc386-d0f5-11ea-8679-12042be163e7
DTSTAMP:20200728T171439Z
SUMMARY:Title VI Meeting
URL;VALUE=URI:https://www.ronank12.edu/calendar/2294726/title-vi-meeting-cl
 one
DTSTART:20201210T010000Z
DTEND:20201210T020000Z
END:VEVENT
END:VCALENDAR
