BEGIN:VCALENDAR
VERSION:2.0
PRODID:SchoolNow
CALSCALE:GREGORIAN
BEGIN:VEVENT
UID:ac9fd290-1e23-11ef-91a3-0e958962be97
DTSTAMP:20260420T185008Z
SUMMARY:Title VI Meeting
LOCATION:RHS Library
URL;VALUE=URI:https://www.ronank12.edu/calendar/6048314/title-vi-meeting
DTSTART:20260115T010000Z
DTEND:20260115T020000Z
END:VEVENT
END:VCALENDAR
