BEGIN:VCALENDAR
VERSION:2.0
PRODID:SchoolNow
CALSCALE:GREGORIAN
BEGIN:VEVENT
UID:aca062aa-1e23-11ef-a2d4-0e958962be97
DTSTAMP:20260420T185008Z
SUMMARY:Board Meeting
URL;VALUE=URI:https://www.ronank12.edu/calendar/6048315/board-meeting
DTSTART:20260113T020000Z
DTEND:20260113T030000Z
END:VEVENT
END:VCALENDAR
