BEGIN:VCALENDAR
VERSION:2.0
PRODID:SchoolNow
CALSCALE:GREGORIAN
BEGIN:VEVENT
UID:23ef1192-274f-11ef-84c1-0e8e0fab784f
DTSTAMP:20260420T185008Z
SUMMARY:Board Meeting
URL;VALUE=URI:https://www.ronank12.edu/calendar/6103533/board-meeting
DTSTART:20260210T020000Z
DTEND:20260210T030000Z
END:VEVENT
END:VCALENDAR
