BEGIN:VCALENDAR
VERSION:2.0
PRODID:SchoolNow
CALSCALE:GREGORIAN
BEGIN:VEVENT
UID:fb119db2-35cc-11ef-8320-0240097ea86f
DTSTAMP:20260420T185008Z
SUMMARY:Title VI Meeting
LOCATION:RHS Library
URL;VALUE=URI:https://www.ronank12.edu/calendar/6182619/title-vi-meeting
DTSTART:20260212T010000Z
DTEND:20260212T020000Z
END:VEVENT
END:VCALENDAR
