BEGIN:VCALENDAR
VERSION:2.0
PRODID:SchoolNow
CALSCALE:GREGORIAN
BEGIN:VEVENT
UID:0fc0654e-58ab-11ef-a3ff-022c528b93f5
DTSTAMP:20260420T124509Z
SUMMARY:Title VI Meeting
LOCATION:RHS Library
URL;VALUE=URI:https://www.ronank12.edu/calendar/6388839/title-vi-meeting
DTSTART:20260409T000000Z
DTEND:20260409T010000Z
END:VEVENT
END:VCALENDAR
