BEGIN:VCALENDAR
VERSION:2.0
PRODID:SchoolNow
CALSCALE:GREGORIAN
BEGIN:VEVENT
UID:df2af19e-5c40-11ef-bbe7-02d9f700309b
DTSTAMP:20260420T064010Z
SUMMARY:Board Meeting
URL;VALUE=URI:https://www.ronank12.edu/calendar/6415574/board-meeting
DTSTART:20260414T010000Z
DTEND:20260414T020000Z
END:VEVENT
END:VCALENDAR
