BEGIN:VCALENDAR
VERSION:2.0
PRODID:SchoolNow
CALSCALE:GREGORIAN
BEGIN:VEVENT
UID:8f08e8bc-75f2-11ef-b71e-022bba40464f
DTSTAMP:20260420T185008Z
SUMMARY:Board Meeting
URL;VALUE=URI:https://www.ronank12.edu/calendar/6635685/board-meeting
DTSTART:20260512T010000Z
DTEND:20260512T020000Z
END:VEVENT
END:VCALENDAR
