BEGIN:VCALENDAR
VERSION:2.0
PRODID:SchoolNow
CALSCALE:GREGORIAN
BEGIN:VEVENT
UID:8f08eede-75f2-11ef-8843-022bba40464f
DTSTAMP:20260420T185008Z
SUMMARY:Title VI Meeting
LOCATION:RHS Library
URL;VALUE=URI:https://www.ronank12.edu/calendar/6635686/title-vi-meeting
DTSTART:20260514T000000Z
DTEND:20260514T010000Z
END:VEVENT
END:VCALENDAR
