BEGIN:VCALENDAR
VERSION:2.0
PRODID:SchoolNow
CALSCALE:GREGORIAN
BEGIN:VEVENT
UID:f77c5fde-045c-11f0-89f3-0a58a9feac02
DTSTAMP:20260420T185008Z
SUMMARY:No School - Winter Holiday
URL;VALUE=URI:https://www.ronank12.edu/calendar/7717507/no-school-winter-ho
 liday
DTSTART;VALUE=DATE:20251224
DTEND;VALUE=DATE:20260103
END:VEVENT
END:VCALENDAR
