BEGIN:VCALENDAR
VERSION:2.0
PRODID:SchoolNow
CALSCALE:GREGORIAN
BEGIN:VEVENT
UID:f77c60c4-045c-11f0-9e10-0a58a9feac02
DTSTAMP:20260420T185008Z
SUMMARY:End of Quarter 2/Semester 1
URL;VALUE=URI:https://www.ronank12.edu/calendar/7717508/end-of-quarter-2-se
 mester-1
DTSTART;VALUE=DATE:20260116
DTEND;VALUE=DATE:20260117
END:VEVENT
END:VCALENDAR
