BEGIN:VCALENDAR
VERSION:2.0
PRODID:SchoolNow
CALSCALE:GREGORIAN
BEGIN:VEVENT
UID:f77c61a0-045c-11f0-bee7-0a58a9feac02
DTSTAMP:20260420T185008Z
SUMMARY:No School - Martin Luther King\, Jr. Day
URL;VALUE=URI:https://www.ronank12.edu/calendar/7717509/no-school-martin-lu
 ther-king-jr-day
DTSTART;VALUE=DATE:20260119
DTEND;VALUE=DATE:20260120
END:VEVENT
END:VCALENDAR
