BEGIN:VCALENDAR
VERSION:2.0
PRODID:SchoolNow
CALSCALE:GREGORIAN
BEGIN:VEVENT
UID:f77c6286-045c-11f0-9f3d-0a58a9feac02
DTSTAMP:20260420T185008Z
SUMMARY:Early Release Day for Students
URL;VALUE=URI:https://www.ronank12.edu/calendar/7717510/early-release-day-f
 or-students
DTSTART;VALUE=DATE:20260220
DTEND;VALUE=DATE:20260221
END:VEVENT
END:VCALENDAR
