BEGIN:VCALENDAR
VERSION:2.0
PRODID:SchoolNow
CALSCALE:GREGORIAN
BEGIN:VEVENT
UID:f77c636c-045c-11f0-b2bc-0a58a9feac02
DTSTAMP:20260420T185008Z
SUMMARY:No School
URL;VALUE=URI:https://www.ronank12.edu/calendar/7717511/no-school
DTSTART;VALUE=DATE:20260227
DTEND;VALUE=DATE:20260228
END:VEVENT
END:VCALENDAR
