BEGIN:VCALENDAR
VERSION:2.0
PRODID:SchoolNow
CALSCALE:GREGORIAN
BEGIN:VEVENT
UID:f77c6448-045c-11f0-8570-0a58a9feac02
DTSTAMP:20260420T185008Z
SUMMARY:End of Quarter 3
URL;VALUE=URI:https://www.ronank12.edu/calendar/7717512/end-of-quarter-3
DTSTART;VALUE=DATE:20260320
DTEND;VALUE=DATE:20260321
END:VEVENT
END:VCALENDAR
