BEGIN:VCALENDAR
VERSION:2.0
PRODID:SchoolNow
CALSCALE:GREGORIAN
BEGIN:VEVENT
UID:f77c7546-045c-11f0-920a-0a58a9feac02
DTSTAMP:20260420T185008Z
SUMMARY:No School
URL;VALUE=URI:https://www.ronank12.edu/calendar/7717517/no-school
DTSTART;VALUE=DATE:20260501
DTEND;VALUE=DATE:20260502
END:VEVENT
END:VCALENDAR
