BEGIN:VCALENDAR
VERSION:2.0
PRODID:SchoolNow
CALSCALE:GREGORIAN
BEGIN:VEVENT
UID:f77c82a2-045c-11f0-a975-0a58a9feac02
DTSTAMP:20260420T185008Z
SUMMARY:No School
URL;VALUE=URI:https://www.ronank12.edu/calendar/7717519/no-school
DTSTART;VALUE=DATE:20260515
DTEND;VALUE=DATE:20260516
END:VEVENT
END:VCALENDAR
