BEGIN:VCALENDAR
VERSION:2.0
PRODID:SchoolNow
CALSCALE:GREGORIAN
BEGIN:VEVENT
UID:f0a12c74-60ca-11f0-9ba9-0eac6ada30fd
DTSTAMP:20260420T185008Z
SUMMARY:State Baseball - Butte
URL;VALUE=URI:https://www.ronank12.edu/calendar/8413679/state-baseball-butt
 e
DTSTART;VALUE=DATE:20260528
DTEND;VALUE=DATE:20260531
END:VEVENT
END:VCALENDAR
