BEGIN:VCALENDAR
VERSION:2.0
PRODID:SchoolNow
CALSCALE:GREGORIAN
BEGIN:VEVENT
UID:f0a12d6e-60ca-11f0-9a13-0eac6ada30fd
DTSTAMP:20260420T185008Z
SUMMARY:State Tennis - TBD
URL;VALUE=URI:https://www.ronank12.edu/calendar/8413680/state-tennis-tbd
DTSTART;VALUE=DATE:20260528
DTEND;VALUE=DATE:20260530
END:VEVENT
END:VCALENDAR
