BEGIN:VCALENDAR
VERSION:2.0
PRODID:SchoolNow
CALSCALE:GREGORIAN
BEGIN:VEVENT
UID:f0a12e68-60ca-11f0-bcf3-0eac6ada30fd
DTSTAMP:20260420T185008Z
SUMMARY:State A Softball - Hamilton
URL;VALUE=URI:https://www.ronank12.edu/calendar/8413681/state-a-softball-ha
 milton
DTSTART;VALUE=DATE:20260528
DTEND;VALUE=DATE:20260531
END:VEVENT
END:VCALENDAR
