BEGIN:VCALENDAR
VERSION:2.0
PRODID:SchoolNow
CALSCALE:GREGORIAN
BEGIN:VEVENT
UID:f0a12f58-60ca-11f0-82c6-0eac6ada30fd
DTSTAMP:20260420T185008Z
SUMMARY:State A-C Track - Laurel
URL;VALUE=URI:https://www.ronank12.edu/calendar/8413682/state-a-c-track-lau
 rel
DTSTART;VALUE=DATE:20260528
DTEND;VALUE=DATE:20260531
END:VEVENT
END:VCALENDAR
