BEGIN:VCALENDAR
VERSION:2.0
PRODID:SchoolNow
CALSCALE:GREGORIAN
BEGIN:VEVENT
UID:f0a13a70-60ca-11f0-a4de-0eac6ada30fd
DTSTAMP:20260420T185008Z
SUMMARY:Speech & Drama Divisionals
URL;VALUE=URI:https://www.ronank12.edu/calendar/8413694/speech-drama-divisi
 onals
DTSTART;VALUE=DATE:20260123
DTEND;VALUE=DATE:20260125
END:VEVENT
END:VCALENDAR
