BEGIN:VCALENDAR
VERSION:2.0
PRODID:SchoolNow
CALSCALE:GREGORIAN
BEGIN:VEVENT
UID:f0a13b56-60ca-11f0-b55c-0eac6ada30fd
DTSTAMP:20260420T185008Z
SUMMARY:Speech & Drama State A - Corvallis
URL;VALUE=URI:https://www.ronank12.edu/calendar/8413695/speech-drama-state-
 a-corvallis
DTSTART;VALUE=DATE:20260130
DTEND;VALUE=DATE:20260201
END:VEVENT
END:VCALENDAR
