BEGIN:VCALENDAR
VERSION:2.0
PRODID:SchoolNow
CALSCALE:GREGORIAN
BEGIN:VEVENT
UID:f0a13c3c-60ca-11f0-b966-0eac6ada30fd
DTSTAMP:20260420T185008Z
SUMMARY:Wrestling State - Billings
URL;VALUE=URI:https://www.ronank12.edu/calendar/8413696/wrestling-state-bil
 lings
DTSTART;VALUE=DATE:20260219
DTEND;VALUE=DATE:20260222
END:VEVENT
END:VCALENDAR
