BEGIN:VCALENDAR
VERSION:2.0
PRODID:SchoolNow
CALSCALE:GREGORIAN
BEGIN:VEVENT
UID:f0a13d18-60ca-11f0-84f8-0eac6ada30fd
DTSTAMP:20260420T185008Z
SUMMARY:B.Ball State A - Great Falls
URL;VALUE=URI:https://www.ronank12.edu/calendar/8413697/b-ball-state-a-grea
 t-falls
DTSTART;VALUE=DATE:20260312
DTEND;VALUE=DATE:20260315
END:VEVENT
END:VCALENDAR
