BEGIN:VCALENDAR
VERSION:2.0
PRODID:SchoolNow
CALSCALE:GREGORIAN
BEGIN:VEVENT
UID:f0a13df4-60ca-11f0-b0fb-0eac6ada30fd
DTSTAMP:20260420T185008Z
SUMMARY:Divisional Softball
URL;VALUE=URI:https://www.ronank12.edu/calendar/8413698/divisional-softball
DTSTART;VALUE=DATE:20260518
DTEND;VALUE=DATE:20260524
END:VEVENT
END:VCALENDAR
