BEGIN:VCALENDAR
VERSION:2.0
PRODID:SchoolNow
CALSCALE:GREGORIAN
BEGIN:VEVENT
UID:f0a13fc0-60ca-11f0-bce6-0eac6ada30fd
DTSTAMP:20260420T185008Z
SUMMARY:First Day Practice Baseball\, S. Ball\, Track\, Tennis
URL;VALUE=URI:https://www.ronank12.edu/calendar/8413700/first-day-practice-
 baseball-s-ball-track-tennis
DTSTART;VALUE=DATE:20260316
DTEND;VALUE=DATE:20260317
END:VEVENT
END:VCALENDAR
