BEGIN:VCALENDAR
VERSION:2.0
PRODID:SchoolNow
CALSCALE:GREGORIAN
BEGIN:VEVENT
UID:a6bf12b6-6691-11f0-be7e-0a58a9feac02
DTSTAMP:20260420T185008Z
SUMMARY:Principal Appreciation Day
URL;VALUE=URI:https://www.ronank12.edu/calendar/8435732/principal-appreciat
 ion-day
DTSTART;VALUE=DATE:20260501
DTEND;VALUE=DATE:20260502
END:VEVENT
END:VCALENDAR
