BEGIN:VCALENDAR
VERSION:2.0
PRODID:SchoolNow
CALSCALE:GREGORIAN
BEGIN:VEVENT
UID:9eb325c8-672a-11f0-8c95-0affd29e4771
DTSTAMP:20260420T185008Z
SUMMARY:Senior Awards Night PAC
URL;VALUE=URI:https://www.ronank12.edu/calendar/8437724/senior-awards-night
 -pac
DTSTART:20260527T000000Z
DTEND:20260527T010000Z
END:VEVENT
END:VCALENDAR
