BEGIN:VCALENDAR
VERSION:2.0
PRODID:SchoolNow
CALSCALE:GREGORIAN
BEGIN:VEVENT
UID:9eb326d6-672a-11f0-9d3f-0affd29e4771
DTSTAMP:20260420T185008Z
SUMMARY:Baccalaureate PAC
URL;VALUE=URI:https://www.ronank12.edu/calendar/8437725/baccalaureate-pac
DTSTART:20260528T000000Z
DTEND:20260528T010000Z
END:VEVENT
END:VCALENDAR
