BEGIN:VCALENDAR
VERSION:2.0
PRODID:SchoolNow
CALSCALE:GREGORIAN
BEGIN:VEVENT
UID:9eb327da-672a-11f0-9cfa-0affd29e4771
DTSTAMP:20260420T185008Z
SUMMARY:Graduation
URL;VALUE=URI:https://www.ronank12.edu/calendar/8437726/graduation
DTSTART:20260531T200000Z
DTEND:20260531T210000Z
END:VEVENT
END:VCALENDAR
