BEGIN:VCALENDAR
VERSION:2.0
PRODID:SchoolNow
CALSCALE:GREGORIAN
BEGIN:VEVENT
UID:9eb329d8-672a-11f0-9593-0affd29e4771
DTSTAMP:20260420T064010Z
SUMMARY:Kindergarten Round Up - KWH
LOCATION:K. William Harvey Elementary\, 350 4th Ave NW\, Ronan\, MT 59864\,
  USA
URL;VALUE=URI:https://www.ronank12.edu/calendar/8437728/kindergarten-round-
 up-kwh
DTSTART:20260402T140000Z
DTEND:20260402T210000Z
END:VEVENT
END:VCALENDAR
