BEGIN:VCALENDAR
VERSION:2.0
PRODID:SchoolNow
CALSCALE:GREGORIAN
BEGIN:VEVENT
UID:e94a2e08-8906-11f0-b7fb-0a58a9feac02
DTSTAMP:20260420T185008Z
SUMMARY:Orange Crush Week
URL;VALUE=URI:https://www.ronank12.edu/calendar/8575968/orange-crush-week
DTSTART;VALUE=DATE:20260209
DTEND;VALUE=DATE:20260215
END:VEVENT
END:VCALENDAR
