BEGIN:VCALENDAR
VERSION:2.0
PRODID:SchoolNow
CALSCALE:GREGORIAN
BEGIN:VEVENT
UID:e94a30f6-8906-11f0-92cf-0a58a9feac02
DTSTAMP:20260420T185008Z
SUMMARY:AP Environmental Science
URL;VALUE=URI:https://www.ronank12.edu/calendar/8575971/ap-environmental-sc
 ience
DTSTART:20260515T140000Z
DTEND:20260515T180000Z
END:VEVENT
END:VCALENDAR
