BEGIN:VCALENDAR
VERSION:2.0
PRODID:SchoolNow
CALSCALE:GREGORIAN
BEGIN:VEVENT
UID:e94a31dc-8906-11f0-82c9-0a58a9feac02
DTSTAMP:20260420T185008Z
SUMMARY:Senior Work Deadline
URL;VALUE=URI:https://www.ronank12.edu/calendar/8575972/senior-work-deadlin
 e
DTSTART;VALUE=DATE:20260527
DTEND;VALUE=DATE:20260528
END:VEVENT
END:VCALENDAR
