BEGIN:VCALENDAR
VERSION:2.0
PRODID:SchoolNow
CALSCALE:GREGORIAN
BEGIN:VEVENT
UID:e94a32cc-8906-11f0-b9eb-0a58a9feac02
DTSTAMP:20260420T185008Z
SUMMARY:Senior Celebration
URL;VALUE=URI:https://www.ronank12.edu/calendar/8575973/senior-celebration
DTSTART:20260527T190000Z
DTEND:20260527T213000Z
END:VEVENT
END:VCALENDAR
