BEGIN:VCALENDAR
VERSION:2.0
PRODID:SchoolNow
CALSCALE:GREGORIAN
BEGIN:VEVENT
UID:e5292b86-89d2-11f0-b539-0e30aff73053
DTSTAMP:20251216T154608Z
SUMMARY:NW All Star Game (5pm)
URL;VALUE=URI:https://www.ronank12.edu/calendar/8581567/nw-all-star-game-5p
 m
DTSTART;VALUE=DATE:20260317
DTEND;VALUE=DATE:20260318
END:VEVENT
END:VCALENDAR
