BEGIN:VCALENDAR
VERSION:2.0
PRODID:SchoolNow
CALSCALE:GREGORIAN
BEGIN:VEVENT
UID:6fc0f71a-a61b-11f0-9991-0a58a9feac02
DTSTAMP:20251216T154608Z
SUMMARY:Ronan Wrestling Booster Club Youth USA W Wrestling Tournament(Event
  Center Gym Setup)
URL;VALUE=URI:https://www.ronank12.edu/calendar/8712391/ronan-wrestling-boo
 ster-club-youth-usa-w-wrestling-tournament-event-center-gym-setup
DTSTART:20260313T220000Z
DTEND:20260314T030000Z
END:VEVENT
END:VCALENDAR
