BEGIN:VCALENDAR
VERSION:2.0
PRODID:SchoolNow
CALSCALE:GREGORIAN
BEGIN:VEVENT
UID:6fc0fa6c-a61b-11f0-a6e6-0a58a9feac02
DTSTAMP:20251216T154608Z
SUMMARY:Ronan Wrestling Booster Club Youth USA W Wrestling Tournament  (Eve
 nt Center)
URL;VALUE=URI:https://www.ronank12.edu/calendar/8712392/ronan-wrestling-boo
 ster-club-youth-usa-w-wrestling-tournament-event-center
DTSTART:20260314T130000Z
DTEND:20260315T020000Z
END:VEVENT
END:VCALENDAR
