BEGIN:VCALENDAR
VERSION:2.0
PRODID:SchoolNow
CALSCALE:GREGORIAN
BEGIN:VEVENT
UID:6f5403ae-ae08-11f0-972c-0a58a9feac02
DTSTAMP:20260420T185008Z
SUMMARY:MS/HS Spring Choir Concert
URL;VALUE=URI:https://www.ronank12.edu/calendar/8737158/ms-hs-spring-choir-
 concert
DTSTART:20260325T010000Z
DTEND:20260325T020000Z
END:VEVENT
END:VCALENDAR
