BEGIN:VCALENDAR
VERSION:2.0
PRODID:SchoolNow
CALSCALE:GREGORIAN
BEGIN:VEVENT
UID:6f5404a8-ae08-11f0-91aa-0a58a9feac02
DTSTAMP:20260420T064010Z
SUMMARY:District Music Festival (Kalispell)  Band and Choir.
URL;VALUE=URI:https://www.ronank12.edu/calendar/8737159/district-music-fest
 ival-kalispell-band-and-choir
DTSTART;VALUE=DATE:20260409
DTEND;VALUE=DATE:20260412
END:VEVENT
END:VCALENDAR
