BEGIN:VCALENDAR
VERSION:2.0
PRODID:SchoolNow
CALSCALE:GREGORIAN
BEGIN:VEVENT
UID:6f540598-ae08-11f0-b3f2-0a58a9feac02
DTSTAMP:20260420T185008Z
SUMMARY:State Solo/Ensemble Festival
URL;VALUE=URI:https://www.ronank12.edu/calendar/8737160/state-solo-ensemble
 -festival
DTSTART;VALUE=DATE:20260501
DTEND;VALUE=DATE:20260503
END:VEVENT
END:VCALENDAR
