BEGIN:VCALENDAR
VERSION:2.0
PRODID:SchoolNow
CALSCALE:GREGORIAN
BEGIN:VEVENT
UID:6f54067e-ae08-11f0-b28d-0a58a9feac02
DTSTAMP:20260420T185008Z
SUMMARY:5th Grade Spring Concert
URL;VALUE=URI:https://www.ronank12.edu/calendar/8737161/5th-grade-spring-co
 ncert
DTSTART:20260512T200000Z
DTEND:20260512T210000Z
END:VEVENT
END:VCALENDAR
