BEGIN:VCALENDAR
VERSION:2.0
PRODID:SchoolNow
CALSCALE:GREGORIAN
BEGIN:VEVENT
UID:6f54076e-ae08-11f0-9783-0a58a9feac02
DTSTAMP:20260420T185008Z
SUMMARY:MS/HS Pops Concert
URL;VALUE=URI:https://www.ronank12.edu/calendar/8737162/ms-hs-pops-concert
DTSTART:20260520T010000Z
DTEND:20260520T020000Z
END:VEVENT
END:VCALENDAR
