BEGIN:VCALENDAR
VERSION:2.0
PRODID:SchoolNow
CALSCALE:GREGORIAN
BEGIN:VEVENT
UID:3aabf3fa-b425-11f0-b7db-0a58a9feac02
DTSTAMP:20251216T154608Z
SUMMARY:Choir 6-12 Concert at 7pm (PAC)
URL;VALUE=URI:https://www.ronank12.edu/calendar/8757280/choir-6-12-concert-
 at-7pm-pac
DTSTART;VALUE=DATE:20260324
DTEND;VALUE=DATE:20260325
END:VEVENT
END:VCALENDAR
