BEGIN:VCALENDAR
VERSION:2.0
PRODID:SchoolNow
CALSCALE:GREGORIAN
BEGIN:VEVENT
UID:3b7286a0-b425-11f0-a715-0a58a9feac02
DTSTAMP:20251216T154609Z
SUMMARY:Adult Ed - Volleyball - RHS Gym
URL;VALUE=URI:https://www.ronank12.edu/calendar/8757289/adult-ed-volleyball
 -rhs-gym
DTSTART:20260108T020000Z
DTEND:20260108T040000Z
END:VEVENT
END:VCALENDAR
