BEGIN:VCALENDAR
VERSION:2.0
PRODID:SchoolNow
CALSCALE:GREGORIAN
BEGIN:VEVENT
UID:3b728790-b425-11f0-bd96-0a58a9feac02
DTSTAMP:20251216T154609Z
SUMMARY:Adult Ed - Volleyball - RHS Gym
URL;VALUE=URI:https://www.ronank12.edu/calendar/8757290/adult-ed-volleyball
 -rhs-gym
DTSTART:20260115T020000Z
DTEND:20260115T040000Z
END:VEVENT
END:VCALENDAR
