BEGIN:VCALENDAR
VERSION:2.0
PRODID:SchoolNow
CALSCALE:GREGORIAN
BEGIN:VEVENT
UID:3b72a9f0-b425-11f0-ac0d-0a58a9feac02
DTSTAMP:20251216T154609Z
SUMMARY:Adult Ed - Pickleball - RHS Gym
URL;VALUE=URI:https://www.ronank12.edu/calendar/8757297/adult-ed-pickleball
 -rhs-gym
DTSTART:20260108T020000Z
DTEND:20260108T030000Z
END:VEVENT
END:VCALENDAR
