BEGIN:VCALENDAR
VERSION:2.0
PRODID:SchoolNow
CALSCALE:GREGORIAN
BEGIN:VEVENT
UID:3b72c5de-b425-11f0-89d0-0a58a9feac02
DTSTAMP:20251216T154608Z
SUMMARY:Adult Ed - Weight room/Track - Event Center
URL;VALUE=URI:https://www.ronank12.edu/calendar/8757321/adult-ed-weight-roo
 m-track-event-center
DTSTART:20260107T003000Z
DTEND:20260107T020000Z
END:VEVENT
END:VCALENDAR
